BEGIN:VCALENDAR
PRODID:-//eluceo/ical//2.0/EN
VERSION:2.0
CALSCALE:GREGORIAN
BEGIN:VEVENT
UID:d4b2e68692d3434a44bdc967c4ac614b
DTSTAMP:20260425T151955Z
SUMMARY:Senatorial Candidates Virtual Forum
DESCRIPTION:Jewish Federation of West-Central New Jersey\nCommunity Calenda
 r\nhttps://jfedwcnj.org/calendar/senatorial-candidates-virtual-forum\n\nSe
 natorial Candidates Virtual Forum\nMonday\, October 19 • 6:30-7:30 pm\n\
 nJoin us on Zoom to hear where senatorial candidates\, Cory Booker (D) a
 nd Dr. Rik Mehta (R)\, stand on issues of particular importance to our J
 ewish community.
DTSTART;TZID=America/New_York:20201019T183000
DTEND;TZID=America/New_York:20201019T193000
END:VEVENT
END:VCALENDAR
