BEGIN:VCALENDAR
PRODID:-//eluceo/ical//2.0/EN
VERSION:2.0
CALSCALE:GREGORIAN
BEGIN:VEVENT
UID:870ee7b9706b79b587f8bfbc18baf981
DTSTAMP:20260419T185719Z
SUMMARY:Scroll Rededication Celebration
DESCRIPTION:Jewish Federation of West-Central New Jersey\nCommunity Calenda
 r\nhttps://jfedwcnj.org/calendar/scroll-rededication-celebration-25\n\nCKS
  has partnered with a sofer to meticulously restore all of our Torah scrol
 ls. Join us for the siyyum!
DTSTART;TZID=America/New_York:20250601T090000
DTEND;TZID=America/New_York:20250601T180000
END:VEVENT
END:VCALENDAR
