BEGIN:VCALENDAR
PRODID:-//eluceo/ical//2.0/EN
VERSION:2.0
CALSCALE:GREGORIAN
BEGIN:VEVENT
UID:aa5e2cfbceac9c140cdd73d95802d3ad
DTSTAMP:20260422T111618Z
SUMMARY:Scroll Down: Classical Jewish Texts on the Internet
DESCRIPTION:Jewish Federation of West-Central New Jersey\nCommunity Calenda
 r\nhttps://jfedwcnj.org/calendar/scroll-down-classical-jewish-texts-on-the
 -internet-1510164648\n\nOver the course of more than two millennia\, Jewis
 h texts have transitioned from scroll to codex to book – and now to the 
 digital age. Professor Gary A. Rendsburg\, the Blanche and Irving Laurie C
 hair in Jewish History at Rutgers University\, will survey the classical J
 ewish sources\, including the Bible\, Mishnah\, Talmud\, Siddur\, and Hagg
 adah\, from before the age of printing to digital formats. He will focus b
 oth on the contents and the history of these documents\, including their p
 reservation i...
DTSTART;TZID=America/New_York:20171204T193000
DTEND;TZID=America/New_York:20171204T235959
END:VEVENT
END:VCALENDAR
