BEGIN:VCALENDAR
PRODID:-//eluceo/ical//2.0/EN
VERSION:2.0
CALSCALE:GREGORIAN
BEGIN:VEVENT
UID:553a772df4506ea05dcb3baf4d7966b4
DTSTAMP:20260422T015808Z
SUMMARY:Scripture and Tradition in Judaism: The Challenge of Modernity
DESCRIPTION:Jewish Federation of West-Central New Jersey\nCommunity Calenda
 r\nhttps://jfedwcnj.org/calendar/scripture-and-tradition-in-judaism-the-ch
 allenge-of-modernity-1479755052\n\nA leading expert on biblical thought an
 d modern Jewish theology\, Dr. Benjamin D. Sommer (Jewish Theological Semi
 nary of America) will discuss his most recent book\, "Revelation & Authori
 ty: Sinai in Jewish Scripture and Tradition\," a finalist for the National
  Jewish Book Award. He will focus on one of the most important\, yet least
  understood\, doctrines of Judaism\, the Oral Torah. He will address how t
 he Talmudic rabbis understood it\, how it relates to the written Torah\, a
 nd how modern Jewish t...
DTSTART;TZID=America/New_York:20161205T193000
DTEND;TZID=America/New_York:20161205T210000
END:VEVENT
END:VCALENDAR
