BEGIN:VCALENDAR
PRODID:-//eluceo/ical//2.0/EN
VERSION:2.0
CALSCALE:GREGORIAN
BEGIN:VEVENT
UID:dea497dc3b76a47f7d1cacb79932ebb6
DTSTAMP:20260421T193526Z
SUMMARY:Save the Date: Cantorial Concert
DESCRIPTION:Jewish Federation of West-Central New Jersey\nCommunity Calenda
 r\nhttps://jfedwcnj.org/calendar/save-the-date-cantorial-concert-152528774
 5\n\nCantorial Concert
DTSTART;TZID=America/New_York:20181216T150000
DTEND;TZID=America/New_York:20181216T180000
END:VEVENT
END:VCALENDAR
