BEGIN:VCALENDAR
PRODID:-//eluceo/ical//2.0/EN
VERSION:2.0
CALSCALE:GREGORIAN
BEGIN:VEVENT
UID:9b6e7b43718d1f59173cc5f02e5b14ba
DTSTAMP:20260423T082939Z
SUMMARY:SADIE’S SHABBAT STORIES – MELISSA STOLLER
DESCRIPTION:Jewish Federation of West-Central New Jersey\nCommunity Calenda
 r\nhttps://jfedwcnj.org/calendar/sadies-shabbat-stories--melissa-stoller-1
 600356659\n\nSadie loves listening to Nana&rsquo\;s tales\, especially abo
 ut the traveling candlesticks\, kiddush cup\, and challah cover they use e
 very Friday night. Will Sadie ever be able to tell her own special Shabbat
  stories\, just like Nana? Based on true stories in the Author Melissa Sto
 ller&rsquo\;s family\, this book celebrates family history and connections
 .
DTSTART;TZID=America/New_York:20201018T100000
DTEND;TZID=America/New_York:20201018T120000
END:VEVENT
END:VCALENDAR
