BEGIN:VCALENDAR
PRODID:-//eluceo/ical//2.0/EN
VERSION:2.0
CALSCALE:GREGORIAN
BEGIN:VEVENT
UID:3cb1e817c00f3b6906ca37b524c8f984
DTSTAMP:20260423T122425Z
SUMMARY:RVCC Institute of Holocaust & Genocide Studies Online Summer Books
DESCRIPTION:Jewish Federation of West-Central New Jersey\nCommunity Calenda
 r\nhttps://jfedwcnj.org/calendar/rvcc-institute-of-holocaust-genocide-stud
 ies-online-summer-books\n\nThe author of "Peach Blossom Spring\,"  Melis
 sa Fu\, will join us to discuss her book! \n\n\nA country at war. A famil
 y searching for home.\n\nChina\, 1938. Meilin and her four-year-old son\, 
 Renshu\, flee their burning city as Japanese forces advance. On the perilo
 us journey that follows\, across a China transformed by war\, they find co
 mfort and wisdom in their most treasured possession\, a beautifully illust
 rated hand scroll filled with ancient fables. Years later\, Renshu has se
 ttled in Americ...
DTSTART;TZID=America/New_York:20230811T100000
DTEND;TZID=America/New_York:20230811T110000
END:VEVENT
END:VCALENDAR
