BEGIN:VCALENDAR
PRODID:-//eluceo/ical//2.0/EN
VERSION:2.0
CALSCALE:GREGORIAN
BEGIN:VEVENT
UID:d11324b1a30b22433f376fece6435a06
DTSTAMP:20260423T093730Z
SUMMARY:RVCC Institute of Holocaust & Genocide Studies Online Summer Book S
 eries
DESCRIPTION:Jewish Federation of West-Central New Jersey\nCommunity Calenda
 r\nhttps://jfedwcnj.org/calendar/rvcc-institute-of-holocaust-genocide-stud
 ies-online-summer-book-series\n\nIn honor of what would have been Anne Fra
 nk's 94th Birthday\, join us online to hear from the author of Tree of H
 ope. A book that chronicles Cara Wilson-Granat’s extraordinary twenty-y
 ear friendship with Otto Frank\, father of Anne Frank (The Diary of Anne F
 rank). Set against the backdrop of the turbulent 1960s and 1970s\, as a yo
 ung girl\, Cara began conversations with Otto through letters reflecting h
 er chaotic teenage years and the violence in America during those decades.
  He validated he...
DTSTART;TZID=America/New_York:20230612T100000
DTEND;TZID=America/New_York:20230612T110000
END:VEVENT
END:VCALENDAR
