BEGIN:VCALENDAR
PRODID:-//eluceo/ical//2.0/EN
VERSION:2.0
CALSCALE:GREGORIAN
BEGIN:VEVENT
UID:22560fdcebf1414237bd1b22b713ffcb
DTSTAMP:20260422T160056Z
SUMMARY:RVCC Institute of Holocaust and Genocide Studies Online Summer Book
  Series
DESCRIPTION:Jewish Federation of West-Central New Jersey\nCommunity Calenda
 r\nhttps://jfedwcnj.org/calendar/rvcc-institute-of-holocaust-and-genocide-
 studies-online-summer-book-series\n\nThe author of "Independence\,"  Chi
 tra Banerjee Divakaruni\, will join us to discuss her book! \n\nSet durin
 g the partition of British India in 1947\, a time when neighbor was pitted
  against neighbor and families were torn apart\, award-winning author Chit
 ra Banerjee Divakaruni's novel brings to life the sweeping story of three 
 sisters caught up in events beyond their control\, their unbreakable bond\
 , and their incredible struggle against powerful odds.\n\n \n\nTo join us
  for this book discuss...
DTSTART;TZID=America/New_York:20230714T100000
DTEND;TZID=America/New_York:20230714T110000
END:VEVENT
END:VCALENDAR
