BEGIN:VCALENDAR
PRODID:-//eluceo/ical//2.0/EN
VERSION:2.0
CALSCALE:GREGORIAN
BEGIN:VEVENT
UID:6e05cd66574678dd45c78cb4517581c4
DTSTAMP:20260423T050103Z
SUMMARY:RV Summer Book Series: The Underground Library
DESCRIPTION:Jewish Federation of West-Central New Jersey\nCommunity Calenda
 r\nhttps://jfedwcnj.org/calendar/rv-summer-book-series-the-underground-lib
 rary\n\nJuly 19\, 10-11 a.m.\, The Underground Library by Jennifer Ryan.
  When the new deputy librarian\, Juliet Lansdown\, finds that Bethnal Gre
 en Library isn't the bustling hub she's expecting\, she becomes determined
  to prove herself and breathe life back into it. Katie Upwood is thrilled 
 to be working at the library\, although she's only there until she heads o
 ff to university in the fall. But after the death of her beau on the front
  line and amid tumultuous family strife\, she finds herself harborin...
DTSTART;TZID=America/New_York:20240719T100000
DTEND;TZID=America/New_York:20240719T110000
END:VEVENT
END:VCALENDAR
