BEGIN:VCALENDAR
PRODID:-//eluceo/ical//2.0/EN
VERSION:2.0
CALSCALE:GREGORIAN
BEGIN:VEVENT
UID:1793a734e781e463929593cc28349ab0
DTSTAMP:20260421T154607Z
SUMMARY:Rutgers Jewish Film Festival October 29- November 12
DESCRIPTION:Jewish Federation of West-Central New Jersey\nCommunity Calenda
 r\nhttps://jfedwcnj.org/calendar/rutgers-jewish-film-festival-october-29--
 november-12-1502224499\n\nThe Bildner Center’s largest community project
 \, the film festival brings award-winning\, international films to New Jer
 sey that explore many aspects of the Jewish experience. Join us for though
 t-provoking\, entertaining cinema and discover new ways of looking at the 
 world through film.MORE DATES / MORE VENUES / MORE SCREENINGSRutgers Busin
 ess School - Livingston Campus\, Piscataway (October 29) AMC Loews New Bru
 nswick 18 - New Brunswick (October 31\, November 2\, 4\, 5\, 9\, 11\, 12) 
 Princeton Garde...
DTSTART;TZID=America/New_York:20171029T120000
DTEND;TZID=America/New_York:20171112T220000
END:VEVENT
END:VCALENDAR
