BEGIN:VCALENDAR
PRODID:-//eluceo/ical//2.0/EN
VERSION:2.0
CALSCALE:GREGORIAN
BEGIN:VEVENT
UID:f24a1ac6e179567d7a0db9569e70d07a
DTSTAMP:20260420T163711Z
SUMMARY:Rutgers Jewish Film Festival
DESCRIPTION:Jewish Federation of West-Central New Jersey\nCommunity Calenda
 r\nhttps://jfedwcnj.org/calendar/rutgers-jewish-film-festival-1526913797\n
 \nThe nineteenth annual Rutgers Jewish Film Festival will run from Tuesday
 \, October 30\, through Sunday\, November 11\, at the AMC Loews New Brunsw
 ick 18 and the Princeton Garden Theatre. The festival brings award-winning
 \, international films to New Jersey that explore many aspects of the Jewi
 sh experience. Join us for thought-provoking\, entertaining cinema and dis
 cover new ways of looking at the world through film. Our website will be u
 pdated as film and ticket information become available. Pleas...
DTSTART;TZID=America/New_York:20181030T180000
DTEND;TZID=America/New_York:20181111T220000
END:VEVENT
END:VCALENDAR
