BEGIN:VCALENDAR
PRODID:-//eluceo/ical//2.0/EN
VERSION:2.0
CALSCALE:GREGORIAN
BEGIN:VEVENT
UID:5287ea69ab29533b67ee723ee909e43e
DTSTAMP:20260422T045402Z
SUMMARY:Rutgers Jewish Film Festival
DESCRIPTION:Jewish Federation of West-Central New Jersey\nCommunity Calenda
 r\nhttps://jfedwcnj.org/calendar/rutgers-jewish-film-festival-1476980891\n
 \nThe 17th annual Rutgers Jewish Film Festival will feature dramatic and d
 ocumentary films from around the world\, and most screenings feature guest
  speakers\, including filmmakers and scholars. This year’s festival feat
 ures more screenings than ever before\, at three new venues: Rutgers Busin
 ess School\, Livingston Campus\, 100 Rockafeller Road\, Piscataway Townshi
 p (conveniently located off Route 18 north near the Rutgers Athletic Cente
 r. Free parking.) \; AMC Loews New Brunswick\, 17 US Highway 1\,...
DTSTART;TZID=America/New_York:20161030T120000
DTEND;TZID=America/New_York:20161113T220000
END:VEVENT
END:VCALENDAR
