BEGIN:VCALENDAR
PRODID:-//eluceo/ical//2.0/EN
VERSION:2.0
CALSCALE:GREGORIAN
BEGIN:VEVENT
UID:0bdbe54858cb6414b377fb9552c395f4
DTSTAMP:20260421T185643Z
SUMMARY:Rutgers Jewish Film Festival - Special Winter Screening
DESCRIPTION:Jewish Federation of West-Central New Jersey\nCommunity Calenda
 r\nhttps://jfedwcnj.org/calendar/rutgers-jewish-film-festival---special-wi
 nter-screening-1484328777\n\nThe film Mr. Gaga: A True Story of Love and D
 ance presents a portrait of Ohad Naharin\, a renowned Israeli choreographe
 r and the artistic director of the Batsheva Dance Company. This spirited d
 ocumentary mixes intimate rehearsal footage and breathtaking dance sequenc
 es. Purchase tickets online through the Bildner Center website: BildnerCen
 ter.Rutgers.edu or at the Mason Gross box office. General Public: $10\; St
 udents: free.
DTSTART;TZID=America/New_York:20170209T193000
DTEND;TZID=America/New_York:20170209T210000
END:VEVENT
END:VCALENDAR
