BEGIN:VCALENDAR
PRODID:-//eluceo/ical//2.0/EN
VERSION:2.0
CALSCALE:GREGORIAN
BEGIN:VEVENT
UID:a19dd4f71c6e68505f2a33c98abcd19c
DTSTAMP:20260422T131312Z
SUMMARY:Rutgers Hillel Groundbreaking Ceremony 
DESCRIPTION:Jewish Federation of West-Central New Jersey\nCommunity Calenda
 r\nhttps://jfedwcnj.org/calendar/rutgers-hillel-groundbreaking-ceremony-14
 14778033\n\nGroundbreaking Ceremony for  The Eva ad Arie Halpern Hillel Ho
 use at Rutgers University
DTSTART;TZID=America/New_York:20141121T110000
DTEND;TZID=America/New_York:20141121T130000
END:VEVENT
END:VCALENDAR
