BEGIN:VCALENDAR
PRODID:-//eluceo/ical//2.0/EN
VERSION:2.0
CALSCALE:GREGORIAN
BEGIN:VEVENT
UID:14291a9c39a2b7511508061273870c7c
DTSTAMP:20260423T062158Z
SUMMARY:Rutgers Hillel FIT5K Run to Support Israel
DESCRIPTION:Jewish Federation of West-Central New Jersey\nCommunity Calenda
 r\nhttps://jfedwcnj.org/calendar/rutgers-hillel-fit5k-run-to-support-israe
 l-1421273915\n\nRutgers Hillel FIT5K Run to Support IsraelNow in its 4th y
 ear\, the FIT5K is a 5 kilometer or 1 mile run/walk held to raise money an
 d support for The Rutgers Hillel Center for Israel Engagement (RHCIE)\, wh
 ich is the first permanent\, pro-Israel center on any college campus.RHCIE
  is a model of excellence in Israel engagement\, education\, and advocacy 
 on campus\, and is driven by a core belief that a positive connection to I
 srael is essential for a strong\, healthy Jewish identity.This year’s ev
 en...
DTSTART;TZID=America/New_York:20150419T100000
DTEND;TZID=America/New_York:20150419T120000
END:VEVENT
END:VCALENDAR
