BEGIN:VCALENDAR
PRODID:-//eluceo/ical//2.0/EN
VERSION:2.0
CALSCALE:GREGORIAN
BEGIN:VEVENT
UID:7b3077bdb1dc0c1038798278ba2a11fc
DTSTAMP:20260420T215747Z
SUMMARY:Rutgers Hillel Annual Gala
DESCRIPTION:Jewish Federation of West-Central New Jersey\nCommunity Calenda
 r\nhttps://jfedwcnj.org/calendar/rutgers-hillel-annual-gala-1651769826\n\n
 Annual event honoring community leaders: supporters and student rising sta
 rs
DTSTART;TZID=America/New_York:20230320T180000
DTEND;TZID=America/New_York:20230320T210000
END:VEVENT
END:VCALENDAR
