BEGIN:VCALENDAR
PRODID:-//eluceo/ical//2.0/EN
VERSION:2.0
CALSCALE:GREGORIAN
BEGIN:VEVENT
UID:adfcf94a913eaac1a77384e951eb2721
DTSTAMP:20260424T051207Z
SUMMARY:Rutgers Hillel Annual Gala
DESCRIPTION:Jewish Federation of West-Central New Jersey\nCommunity Calenda
 r\nhttps://jfedwcnj.org/calendar/rutgers-hillel-annual-gala-1622228682\n\n
 annual event honoring community leaders\, supporters and student rising st
 ars
DTSTART;TZID=America/New_York:20220411T180000
DTEND;TZID=America/New_York:20220411T210000
END:VEVENT
END:VCALENDAR
