BEGIN:VCALENDAR
PRODID:-//eluceo/ical//2.0/EN
VERSION:2.0
CALSCALE:GREGORIAN
BEGIN:VEVENT
UID:36649d922924340cd1982e8c779567a1
DTSTAMP:20260422T085545Z
SUMMARY:Rutgers Hillel Annual Gala
DESCRIPTION:Jewish Federation of West-Central New Jersey\nCommunity Calenda
 r\nhttps://jfedwcnj.org/calendar/rutgers-hillel-annual-gala-1594321326\n\n
 Annual event honoring community leaders and student rising stars.
DTSTART;TZID=America/New_York:20210419T180000
DTEND;TZID=America/New_York:20210419T210000
END:VEVENT
END:VCALENDAR
