BEGIN:VCALENDAR
PRODID:-//eluceo/ical//2.0/EN
VERSION:2.0
CALSCALE:GREGORIAN
BEGIN:VEVENT
UID:02467155f3070a5c943bfe89443bd3e2
DTSTAMP:20260423T073656Z
SUMMARY:Rutgers Hillel Annual Gala
DESCRIPTION:Jewish Federation of West-Central New Jersey\nCommunity Calenda
 r\nhttps://jfedwcnj.org/calendar/rutgers-hillel-annual-gala-1578332203\n\n
 Annual event honoring community leaders\, supporters and Student Rising St
 ars.
DTSTART;TZID=America/New_York:20201109T180000
DTEND;TZID=America/New_York:20201109T200000
END:VEVENT
END:VCALENDAR
