BEGIN:VCALENDAR
PRODID:-//eluceo/ical//2.0/EN
VERSION:2.0
CALSCALE:GREGORIAN
BEGIN:VEVENT
UID:7e14735c856808a12dcdcf3504dc9cb6
DTSTAMP:20260423T223902Z
SUMMARY:Rutgers Hillel Annual Gala
DESCRIPTION:Jewish Federation of West-Central New Jersey\nCommunity Calenda
 r\nhttps://jfedwcnj.org/calendar/rutgers-hillel-annual-gala-1492713649\n\n
 Annual event honoring community leaders\, supporters and Student Rising St
 ars
DTSTART;TZID=America/New_York:20180506T113000
DTEND;TZID=America/New_York:20180506T140000
END:VEVENT
END:VCALENDAR
