BEGIN:VCALENDAR
PRODID:-//eluceo/ical//2.0/EN
VERSION:2.0
CALSCALE:GREGORIAN
BEGIN:VEVENT
UID:7c42a6271f9596e0d75febe03bd35f0f
DTSTAMP:20260423T095231Z
SUMMARY:Rutgers Hillel Annual Gala
DESCRIPTION:Jewish Federation of West-Central New Jersey\nCommunity Calenda
 r\nhttps://jfedwcnj.org/calendar/rutgers-hillel-annual-gala-1467136938\n\n
 Annual event honoring community leaders\, supporters and student rising
DTSTART;TZID=America/New_York:20170511T180000
DTEND;TZID=America/New_York:20170511T210000
END:VEVENT
END:VCALENDAR
