BEGIN:VCALENDAR
PRODID:-//eluceo/ical//2.0/EN
VERSION:2.0
CALSCALE:GREGORIAN
BEGIN:VEVENT
UID:6921fe7ca698ef84602056c8eeb8ea7d
DTSTAMP:20260420T064430Z
SUMMARY:Rutgers Hillel Annual Gala
DESCRIPTION:Jewish Federation of West-Central New Jersey\nCommunity Calenda
 r\nhttps://jfedwcnj.org/calendar/rutgers-hillel-annual-gala-1438203238\n\n
 Annual event honoring community leaders\, donors and Student Rising Stars.
DTSTART;TZID=America/New_York:20160602T180000
DTEND;TZID=America/New_York:20160602T210000
END:VEVENT
END:VCALENDAR
