BEGIN:VCALENDAR
PRODID:-//eluceo/ical//2.0/EN
VERSION:2.0
CALSCALE:GREGORIAN
BEGIN:VEVENT
UID:63d4002975454d21c27866fb2ccec3e0
DTSTAMP:20260423T095401Z
SUMMARY:Rutgers Hillel Alumni Association B1G Premier Viewing Party
DESCRIPTION:Jewish Federation of West-Central New Jersey\nCommunity Calenda
 r\nhttps://jfedwcnj.org/calendar/rutgers-hillel-alumni-association-b1g-pre
 mier-viewing-party\n\nJoin your fellow Rutgers Jewish Alumni to watch the 
 first RU football game in the Big 10!\n\nThe fun begins at 9:30 pm\, with 
 kickoff scheduled for 10:00 pm. To RSVP visit our facebook event page and 
 click &quot\;Join&quot\;.\nhttps://www.facebook.com/events/142807356081347
 8/
DTSTART;TZID=America/New_York:20140828T213000
DTEND;TZID=America/New_York:20140829T010000
END:VEVENT
END:VCALENDAR
