BEGIN:VCALENDAR
PRODID:-//eluceo/ical//2.0/EN
VERSION:2.0
CALSCALE:GREGORIAN
BEGIN:VEVENT
UID:fdaf116cc4a03265b398db60072bf201
DTSTAMP:20260421T181503Z
SUMMARY:Rutgers Bildner Center Virtual Mini-Course: "Innovative Orthodoxies
 "
DESCRIPTION:Jewish Federation of West-Central New Jersey\nCommunity Calenda
 r\nhttps://jfedwcnj.org/calendar/rutgers-bildner-center-virtual-mini-cours
 e-innovative-orthodoxies-1642458734\n\nThis two-part virtual series will e
 xplore new trends in Orthodox Judaism\, including how it has developed tra
 nsnationally between America and Israel\, and changes in the area of women
 's religious leadership. The sessions will be held on February 10 and Febr
 uary 17\, from 12:30 pm -1:30 pm. The series will be presented by Prof. Mi
 chal Raucher\, Rutgers Dept. of Jewish Studies\, and Bildner Visiting Scho
 lar Adam S. Ferziger\, Bar-Ilan University. Free and open to the public. A
 dvance registration requ...
DTSTART;TZID=America/New_York:20220210T123000
DTEND;TZID=America/New_York:20220217T133000
END:VEVENT
END:VCALENDAR
