BEGIN:VCALENDAR
PRODID:-//eluceo/ical//2.0/EN
VERSION:2.0
CALSCALE:GREGORIAN
BEGIN:VEVENT
UID:a6ade4d5fbeb5b75e5c00711326a95cc
DTSTAMP:20260422T131634Z
SUMMARY:Rutgers Bildner Center Talk:  Dance and Disabilities in Israel
DESCRIPTION:Jewish Federation of West-Central New Jersey\nCommunity Calenda
 r\nhttps://jfedwcnj.org/calendar/rutgers-bildner-center-talk--dance-and-di
 sabilities-in-israel-1630338460\n\nThe Allen and Joan Bildner Center for t
 he Study of Jewish Life\, Rutgers University\, presents "Dance and Disabil
 ities in Israel" with Professor Gili Hammer. This talk will explore the Is
 raeli aspects of integrated dance\, an art form that brings together dance
 rs with and without disabilities. Together\, these dancers challenge the w
 ay disability is presented and perceived in public culture and in the arts
 . Yet\, the dance projects also reveal a hierarchy between those veterans 
 of the Israeli Defe...
DTSTART;TZID=America/New_York:20211010T140000
DTEND;TZID=America/New_York:20211010T160000
END:VEVENT
END:VCALENDAR
