BEGIN:VCALENDAR
PRODID:-//eluceo/ical//2.0/EN
VERSION:2.0
CALSCALE:GREGORIAN
BEGIN:VEVENT
UID:6e94002a3ae4c49630f40189db01f3a7
DTSTAMP:20260421T235702Z
SUMMARY:Rutgers Bildner Center Mini-Course: Women in Yiddish Literature
DESCRIPTION:Jewish Federation of West-Central New Jersey\nCommunity Calenda
 r\nhttps://jfedwcnj.org/calendar/rutgers-bildner-center-mini-course-women-
 in-yiddish-literature-1631890333\n\nThree Session Mini-Course Mondays: Nov
 ember 29\, December 6\, 13\, 2021 7:00 PM - 8:00 PM Sessions to be held th
 rough ZoomCourse taught by Anita Norich\, Professor Emerita\, University o
 f MichiganThis series considers how Yiddish literature written by women ad
 dresses Yiddish works that reflect on a range of questions about class\, s
 exuality\, family relations\, immigration\, politics\, economics\, and mor
 e. Many critics used to claim that women wrote primarily poetry or memoirs
  in Yiddish. Why might thi...
DTSTART;TZID=America/New_York:20211129T190000
DTEND;TZID=America/New_York:20211213T200000
END:VEVENT
END:VCALENDAR
