BEGIN:VCALENDAR
PRODID:-//eluceo/ical//2.0/EN
VERSION:2.0
CALSCALE:GREGORIAN
BEGIN:VEVENT
UID:8c7c3d452bae6be0b541449292dd6b8b
DTSTAMP:20260420T040033Z
SUMMARY:Rutgers Bildner Center: Jewish Agriculturalism in the Garden State
DESCRIPTION:Jewish Federation of West-Central New Jersey\nCommunity Calenda
 r\nhttps://jfedwcnj.org/calendar/rutgers-bildner-center-jewish-agricultura
 lism-in-the-garden-state-1631799362\n\nIntroducing a New Online Exhibit\, 
 Oct. 21\, 1:00 p.m.\, on ZOOMOrganized farming has been a key part of the 
 Jewish experience in the modern world\, though this history is largely unk
 nown or forgotten. Dr. Jonathan Dekel-Chen (Hebrew University of Jerusalem
 ) will introduce a new online exhibit that he developed as a visiting scho
 lar at Rutgers about the history of Jewish farming in New Jersey and aroun
 d the world. The exhibition takes a deep dive into the amazing story of Je
 wish agriculture in Ne...
DTSTART;TZID=America/New_York:20211021T130000
DTEND;TZID=America/New_York:20211021T150000
END:VEVENT
END:VCALENDAR
