BEGIN:VCALENDAR
PRODID:-//eluceo/ical//2.0/EN
VERSION:2.0
CALSCALE:GREGORIAN
BEGIN:VEVENT
UID:eaa25b7feb0d6188539568fb9c25f53b
DTSTAMP:20260421T033522Z
SUMMARY:Run Boy Run
DESCRIPTION:Jewish Federation of West-Central New Jersey\nCommunity Calenda
 r\nhttps://jfedwcnj.org/calendar/run-boy-run-1601385599\n\nA superlative s
 aga of courage and compassion\, Run Boy Run tells the extraordinary true s
 tory of a Polish boy who seeks the kindness of others in his solitary stru
 ggle to outlast the Nazi occupation and keep alive his Jewish faith. Food 
 Item: One Falafel Dinner\, including side dishes\, ($15 /additional dinner
 /person)\n\nFood Item: One falafel  dinner\, including side dishes\n(15/ad
 ditional dinner/person)
DTSTART;TZID=America/New_York:20201014T190500
DTEND;TZID=America/New_York:20201014T210000
END:VEVENT
END:VCALENDAR
