BEGIN:VCALENDAR
PRODID:-//eluceo/ical//2.0/EN
VERSION:2.0
CALSCALE:GREGORIAN
BEGIN:VEVENT
UID:b31c658bedde6658449d159eefa220cb
DTSTAMP:20260422T203625Z
SUMMARY:Rummage Sale
DESCRIPTION:Jewish Federation of West-Central New Jersey\nCommunity Calenda
 r\nhttps://jfedwcnj.org/calendar/rummage-sale-1461124533\n\nRummage Sale o
 n May 1st in East Brunswick The Sisterhood of Temple B’nai Shalom will h
 ost a Spring Rummage Sale on Sunday\, May 1st from 9:30am to 2:00pm. A wid
 e variety of items will be available at low prices including clothing\, sh
 oes\, books\, toys\, household items and more for the entire family. Cash 
 & check (with ID) only. Bring a bag or basket to help you shop. Temple B
 ’nai Shalom is located at 15 Fern Road in East Brunswick. Visit www.bnai
 shalom.com for more information.
DTSTART;TZID=America/New_York:20160501T093000
DTEND;TZID=America/New_York:20160501T140000
END:VEVENT
END:VCALENDAR
