BEGIN:VCALENDAR
PRODID:-//eluceo/ical//2.0/EN
VERSION:2.0
CALSCALE:GREGORIAN
BEGIN:VEVENT
UID:861f49b3ca6913836d132eb85489af69
DTSTAMP:20260422T015927Z
SUMMARY:Roswell Tribute Weekend: Service and Luncheon
DESCRIPTION:Jewish Federation of West-Central New Jersey\nCommunity Calenda
 r\nhttps://jfedwcnj.org/calendar/roswell-tribute-weekend-service-and-lunch
 eon-1477854838\n\nThe Talmudic aphorism &ldquo\;All Jews are responsible f
 or one another&rdquo\; is the guiding principal that motivates Betty and A
 rthur Roswell in remaining strongly connected to the Jewish world and to s
 upporting Judaism beyond their local zip code. Through their life-long phi
 lanthropy and dedicated service\, Betty and Arthur have been instrumental 
 in promoting the work of several major Jewish organizations in the U.S.\, 
 Israel and around the world.\n \nTemple Beth-El is proud to honor Betty an
 d Arthur\,...
DTSTART;TZID=America/New_York:20161210T094500
DTEND;TZID=America/New_York:20161210T143000
END:VEVENT
END:VCALENDAR
