BEGIN:VCALENDAR
PRODID:-//eluceo/ical//2.0/EN
VERSION:2.0
CALSCALE:GREGORIAN
BEGIN:VEVENT
UID:4b500ece9910884d91512ebe261899bb
DTSTAMP:20260423T101806Z
SUMMARY:Rosh Hashanah Day 2
DESCRIPTION:Jewish Federation of West-Central New Jersey\nCommunity Calenda
 r\nhttps://jfedwcnj.org/calendar/rosh-hashanah-day-2-1474930841\n\nThe Jew
 ish community is welcome to attend the second day of Rosh Hashanah at CKI 
 - no tickets are required.
DTSTART;TZID=America/New_York:20161004T093000
DTEND;TZID=America/New_York:20161004T133000
END:VEVENT
END:VCALENDAR
