BEGIN:VCALENDAR
PRODID:-//eluceo/ical//2.0/EN
VERSION:2.0
CALSCALE:GREGORIAN
BEGIN:VEVENT
UID:24ad8ed17a31f31b4a4e958980b8cff8
DTSTAMP:20260423T113854Z
SUMMARY:Rokhl Auerbach’s Warsaw Testament
DESCRIPTION:Jewish Federation of West-Central New Jersey\nCommunity Calenda
 r\nhttps://jfedwcnj.org/calendar/rokhl-auerbachs-warsaw-testament-17399102
 94\n\nUntil recently\, very few people knew about Rokhl Auerbach\, a remar
 kable woman who survived the Holocaust and then dedicated her life to pres
 erving the memories of its victims. Join us for a discussion with renowned
  scholar Samuel D. Kassow (Trinity College) about Auerbach’s memoir "War
 saw Testament\," which paints a vivid portrait of the city’s prewar Yidd
 ish literary and artistic community and of its destruction at the hands of
  the Nazis. Professor Kas­sow’s new translation of the work...
DTSTART;TZID=America/New_York:20250324T193000
DTEND;TZID=America/New_York:20250324T203000
END:VEVENT
END:VCALENDAR
