BEGIN:VCALENDAR
PRODID:-//eluceo/ical//2.0/EN
VERSION:2.0
CALSCALE:GREGORIAN
BEGIN:VEVENT
UID:0a28c5c0801e9752d1736a6854629102
DTSTAMP:20260421T021338Z
SUMMARY:Right in our Backyard:  The Drug Addiction Epidemic in Suburbia
DESCRIPTION:Jewish Federation of West-Central New Jersey\nCommunity Calenda
 r\nhttps://jfedwcnj.org/calendar/right-in-our-backyard--the-drug-addiction
 -epidemic-in-suburbia-1441821989\n\nRight in our Backyard:  The Drug Addic
 tion Epidemic in Suburbia
DTSTART;TZID=America/New_York:20151028T190000
DTEND;TZID=America/New_York:20151028T210000
END:VEVENT
END:VCALENDAR
