BEGIN:VCALENDAR
PRODID:-//eluceo/ical//2.0/EN
VERSION:2.0
CALSCALE:GREGORIAN
BEGIN:VEVENT
UID:d72f900fed521c115622e97f2f1bde0e
DTSTAMP:20260421T082135Z
SUMMARY:Rich Cohen: Author Visit
DESCRIPTION:Jewish Federation of West-Central New Jersey\nCommunity Calenda
 r\nhttps://jfedwcnj.org/calendar/rich-cohen-author-visit-1663099443\n\nRic
 h Cohen \, best selling author\, will talk about his newest book\,  "The A
 dventures of Herbie Cohen\,  The World’s Greatest Negotiator."  Herbie\,
  Rich's father\,  advised  presidents and corporations\, was  an arms and 
 hostage negotiator\, lesson giver\, justice seeker\, and author of the how
 -to classic\,  "You Can Negotiate Anything."
DTSTART;TZID=America/New_York:20221023T120000
DTEND;TZID=America/New_York:20221023T140000
END:VEVENT
END:VCALENDAR
