BEGIN:VCALENDAR
PRODID:-//eluceo/ical//2.0/EN
VERSION:2.0
CALSCALE:GREGORIAN
BEGIN:VEVENT
UID:ab23496e11b1326492a11284900d5108
DTSTAMP:20260423T093053Z
SUMMARY:Resilience During Challenging Times: Testimonies That Provide Hope
DESCRIPTION:Jewish Federation of West-Central New Jersey\nCommunity Calenda
 r\nhttps://jfedwcnj.org/calendar/resilience-during-challenging-times-testi
 monies-that-provide-hope1\n\nResilience During Challenging Times: Testimon
 ies That Provide Hope\n\nStarting April 17th - May 29th\n\nFridays 3 - 4 p
 m with live Q&A\n\n \n\nHear about a form of resilience each week from Ho
 locaust survivors\, authors & family members. \n\n \n\nThe focus of our 
 program is RESILIENCE & HOPE. How did the survivors get through that diffi
 cult time & manage to go on after those dark days? What perspectives can w
 e learn from their loved ones? \n\nThe goal is to provide hope for people
  today wh...
DTSTART;TZID=America/New_York:20200417T150000
DTEND;TZID=America/New_York:20200417T160000
END:VEVENT
END:VCALENDAR
