BEGIN:VCALENDAR
PRODID:-//eluceo/ical//2.0/EN
VERSION:2.0
CALSCALE:GREGORIAN
BEGIN:VEVENT
UID:08fb035262cb6482b8a78b6ad1d86056
DTSTAMP:20260420T140703Z
SUMMARY:Reimagining Who’s in the Tent: Addressing Unconscious Bias & Soci
 al Equity
DESCRIPTION:Jewish Federation of West-Central New Jersey\nCommunity Calenda
 r\nhttps://jfedwcnj.org/calendar/reimagining-whos-in-the-tent-addressing-u
 nconscious-bias-and-social-equity-in-the-jewish-community\n\nJoin us for a
  conversation with Rabbi Rothstein about Reimagining Who’s in the Tent: 
 Addressing Unconscious Bias and Social Equity in the Jewish Community.
DTSTART;TZID=America/New_York:20210309T190000
DTEND;TZID=America/New_York:20210309T210000
END:VEVENT
END:VCALENDAR
