BEGIN:VCALENDAR
PRODID:-//eluceo/ical//2.0/EN
VERSION:2.0
CALSCALE:GREGORIAN
BEGIN:VEVENT
UID:750694ea15d1bcda727c1a900e510ce5
DTSTAMP:20260422T133256Z
SUMMARY:Reflections on an Interfaith Journey to the Holy Land
DESCRIPTION:Jewish Federation of West-Central New Jersey\nCommunity Calenda
 r\nhttps://jfedwcnj.org/calendar/reflections-on-an-interfaith-journey-to-t
 he-holy-land-1518796367\n\nThe 3 Religious Leaders will share their reflec
 tions followed by a Pot Luck Dairy/Vegetarian Dinner.  
DTSTART;TZID=America/New_York:20180311T160000
DTEND;TZID=America/New_York:20180311T183000
END:VEVENT
END:VCALENDAR
