BEGIN:VCALENDAR
PRODID:-//eluceo/ical//2.0/EN
VERSION:2.0
CALSCALE:GREGORIAN
BEGIN:VEVENT
UID:2f521db47cad6e506ccd3006397ff38e
DTSTAMP:20260422T182135Z
SUMMARY:Real Estate Marketing Update
DESCRIPTION:Jewish Federation of West-Central New Jersey\nCommunity Calenda
 r\nhttps://jfedwcnj.org/calendar/real-estate-marketing-update\n\n Busines
 s Networking Breakfast \n\nReal Estate Market Update \n\nGuest Speaker: 
 Joe Peters\, Coldwell Banker \n\n$35 Admission online \n\n$40 Admission 
 at the door \n\n 
DTSTART;TZID=America/New_York:20190516T080000
DTEND;TZID=America/New_York:20190516T093000
END:VEVENT
END:VCALENDAR
