BEGIN:VCALENDAR
PRODID:-//eluceo/ical//2.0/EN
VERSION:2.0
CALSCALE:GREGORIAN
BEGIN:VEVENT
UID:9cb3fd6c2fd4b2b175f25faa036f2f54
DTSTAMP:20260423T022446Z
SUMMARY:Reading Herzl in Beirut: The PLO Effort to Know the Enemy
DESCRIPTION:Jewish Federation of West-Central New Jersey\nCommunity Calenda
 r\nhttps://jfedwcnj.org/calendar/reading-herzl-in-beirut-the-plo-effort-to
 -know-the-enemy-1726079055\n\nJonathan Marc Gribetz\, Princeton University
 \, will speak about his new book on the history of the Palestine Liberatio
 n Organization Research Center\, from its establishment in 1965 until its 
 expulsion from Lebanon in 1983. Gribetz examines why the PLO invested in r
 esearch about Judaism and Zionism and how the knowledge it acquired inform
 ed the PLO’s relationship to Israel. This talk is free and open to the p
 ublic and free campus parking is available. Register on the Bildner Center
  website.
DTSTART;TZID=America/New_York:20240924T193000
DTEND;TZID=America/New_York:20240924T203000
END:VEVENT
END:VCALENDAR
