BEGIN:VCALENDAR
PRODID:-//eluceo/ical//2.0/EN
VERSION:2.0
CALSCALE:GREGORIAN
BEGIN:VEVENT
UID:46b9abf4930f7abebb4c8bd12a092f04
DTSTAMP:20260421T050318Z
SUMMARY:Reading Biblical Narrative
DESCRIPTION:Jewish Federation of West-Central New Jersey\nCommunity Calenda
 r\nhttps://jfedwcnj.org/calendar/reading-biblical-narrative-1667498960\n\n
 The Hebrew Bible exercises a highly sophisticated narrative art that deplo
 ys a variety of distinctive conventions and techniques unlike what is foun
 d in other narrative traditions. This lecture\, delivered by renowned scho
 lar Robert B. Alter\, Professor Emeritus of Hebrew and Comparative Literat
 ure at UC Berkeley\, will offer an introduction to these narrative procedu
 res with special attention to the use of repetition as a way of better app
 reciating the artistry of the Hebrew stories. Free and o...
DTSTART;TZID=America/New_York:20230419T190000
DTEND;TZID=America/New_York:20230419T203000
END:VEVENT
END:VCALENDAR
