BEGIN:VCALENDAR
PRODID:-//eluceo/ical//2.0/EN
VERSION:2.0
CALSCALE:GREGORIAN
BEGIN:VEVENT
UID:5beda2980ca47f5000802819dea6eaf5
DTSTAMP:20260421T215740Z
SUMMARY:RBG's List of Brave and Brilliant Jewish Women
DESCRIPTION:Jewish Federation of West-Central New Jersey\nCommunity Calenda
 r\nhttps://jfedwcnj.org/calendar/rbgs-list-of-brave-and-brilliant-jewish-w
 omen-1675694961\n\nAward-winning journalist Nadine Epstein will discuss he
 r collaboration with the late Supreme Court Justice Ruth Bader Ginsburg on
  a collection of short biographies of inspiring Jewish women.
DTSTART;TZID=America/New_York:20230518T193000
DTEND;TZID=America/New_York:20230518T210000
END:VEVENT
END:VCALENDAR
