BEGIN:VCALENDAR
PRODID:-//eluceo/ical//2.0/EN
VERSION:2.0
CALSCALE:GREGORIAN
BEGIN:VEVENT
UID:7c0cc376ef793f29646f7c8779fadb24
DTSTAMP:20260421T192231Z
SUMMARY:RACISM IN NEW JERSEY: SEEKING UNDERSTANDING – PURSUING JUSTICE
DESCRIPTION:Jewish Federation of West-Central New Jersey\nCommunity Calenda
 r\nhttps://jfedwcnj.org/calendar/racism-in-new-jersey-seeking-understandin
 g-pursuing-justice\n\nA panel discussion in honor of Martin Luther King Da
 y\n\nSponsored by Temple Beth-El and RAC-NJ\n\npanelist: \n\nReverend Luk
 ata Mjumbe\nPastor\, Witherspoon Street\nPresbyterian Church and community
 \nactivist\, Princeton\nImam Deen Shareef\n\n\nConvener of the Council of 
 Imams\nin NJ and the spiritual leader of\nMasjid Waarith ud Deen\, Irvingt
 on\n\n\nAssemblywoman Verlina\nReynolds-Jackson\nNJ Legislative District 1
 5\, Trenton\n\nOur guests will share testimony of their personal experienc
 es of...
DTSTART;TZID=America/New_York:20210117T190000
DTEND;TZID=America/New_York:20210117T200000
END:VEVENT
END:VCALENDAR
