BEGIN:VCALENDAR
PRODID:-//eluceo/ical//2.0/EN
VERSION:2.0
CALSCALE:GREGORIAN
BEGIN:VEVENT
UID:29bf6a265e3472e4eec957b87bb1d565
DTSTAMP:20260421T201134Z
SUMMARY:Racial Passing: Efforts to Belong and Assimilate in the United Stat
 es
DESCRIPTION:Jewish Federation of West-Central New Jersey\nCommunity Calenda
 r\nhttps://jfedwcnj.org/calendar/racial-passing-efforts-to-belong-and-assi
 milate-in-the-united-states-1700146810\n\nThis three-part online mini-cour
 se will explore African American and Jewish literary texts that engage iss
 ues of racial passing and belonging in the United States.
DTSTART;TZID=America/New_York:20231129T190000
DTEND;TZID=America/New_York:20231129T200000
END:VEVENT
END:VCALENDAR
