BEGIN:VCALENDAR
PRODID:-//eluceo/ical//2.0/EN
VERSION:2.0
CALSCALE:GREGORIAN
BEGIN:VEVENT
UID:a1f7b69ee5aeace50af783f4f9988550
DTSTAMP:20260422T173903Z
SUMMARY:Rachel Korazim Visiting Scholar from Israel joins us for Yom Ha’a
 tzma’ut
DESCRIPTION:Jewish Federation of West-Central New Jersey\nCommunity Calenda
 r\nhttps://jfedwcnj.org/calendar/rachel-korazim-visiting-scholar-from-isra
 el-joins-us-for-yom-haatzmaut\n\nTime: 7:00 pm (6:30 pizza for teens)\n\nF
 ee: $10 adults\; free for teens\n\nBased on one of the first paragraphs of
  Israel’s Declaration of Independence\, this lecture offers a chronologi
 cal exploration of the longing for Zion and its reality.\n\nThe clash betw
 een romantic longing from afar and the harsh realities of the land\, have 
 been\, and often still are\, very difficult even for the greatest lovers o
 f Zion. Popular songs and poetry put to music will be part of this lecture
 . 
DTSTART;TZID=America/New_York:20180419T183000
DTEND;TZID=America/New_York:20180419T210000
END:VEVENT
END:VCALENDAR
