BEGIN:VCALENDAR
PRODID:-//eluceo/ical//2.0/EN
VERSION:2.0
CALSCALE:GREGORIAN
BEGIN:VEVENT
UID:ce6f698352d72467743011a1318af7cf
DTSTAMP:20260421T040131Z
SUMMARY:RACHEL BLOOM\, I WANT TO BE WHERE THE NORMAL PEOPLE ARE
DESCRIPTION:Jewish Federation of West-Central New Jersey\nCommunity Calenda
 r\nhttps://jfedwcnj.org/calendar/rachel-bloom-i-want-to-be-where-the-norma
 l-people-are-1600781933\n\nFrom the charming and wickedly funny co-creator
  and star of Crazy Ex-Girlfriend\, a collection of hilarious personal essa
 ys\, poems and even amusement park maps on the subjects of insecurity\, fa
 me\, anxiety\, and much more.\n\nRachel Bloom has felt abnormal and out of
  place her whole life. In this exploration of what she thinks makes her &l
 dquo\;different\,&rdquo\; she&rsquo\;s come to realize that a lot of peopl
 e also feel this way\; even people who she otherwise thought were &ldquo\;
 normal.&rdquo\; In a collection of...
DTSTART;TZID=America/New_York:20201119T200000
DTEND;TZID=America/New_York:20201119T210000
END:VEVENT
END:VCALENDAR
