BEGIN:VCALENDAR
PRODID:-//eluceo/ical//2.0/EN
VERSION:2.0
CALSCALE:GREGORIAN
BEGIN:VEVENT
UID:5ba0d6ea0421785c156fcfad95f209c0
DTSTAMP:20260422T025017Z
SUMMARY:Purim
DESCRIPTION:Jewish Federation of West-Central New Jersey\nCommunity Calenda
 r\nhttps://jfedwcnj.org/calendar/purim2026-489024\n\n
DTSTART;TZID=America/New_York:20260303T000000
DTEND;TZID=America/New_York:20260303T235959
END:VEVENT
END:VCALENDAR
