BEGIN:VCALENDAR
PRODID:-//eluceo/ical//2.0/EN
VERSION:2.0
CALSCALE:GREGORIAN
BEGIN:VEVENT
UID:7f4b79884f322fa16acc20659382b221
DTSTAMP:20260423T062219Z
SUMMARY:Purim Palooza at the Bounce Factory
DESCRIPTION:Jewish Federation of West-Central New Jersey\nCommunity Calenda
 r\nhttps://jfedwcnj.org/calendar/purim-palooza-at-the-bounce-factory-15501
 08294\n\nPurim Palooza at the Bounce Factory 150 Mt. Bethel Rd.\, Warren 0
 7059 Thursday\, March 14 5:00 pm – 7:30 pm $20 / child and $5 per adultD
 inner 5:30 -6:30 pm Bounce and Laser Tag from 5:00 – 7:30 pm Purim Craft
 s & Activities 5:00 pm – 7:30 pm Fun for Everyone – All Night Long!Rec
 ommended for children ages 3 and older. Must wear socks. Laser Tag player 
 must be 7 years and up. Stop by NJY Camps Table to decorate and fill Mishl
 oach Manot Baskets
DTSTART;TZID=America/New_York:20190314T170000
DTEND;TZID=America/New_York:20190314T193000
END:VEVENT
END:VCALENDAR
