BEGIN:VCALENDAR
PRODID:-//eluceo/ical//2.0/EN
VERSION:2.0
CALSCALE:GREGORIAN
BEGIN:VEVENT
UID:2ee6a4953f781f178f3f65cf07e992b0
DTSTAMP:20260426T015854Z
SUMMARY:Purim Masquerade
DESCRIPTION:Jewish Federation of West-Central New Jersey\nCommunity Calenda
 r\nhttps://jfedwcnj.org/calendar/purim-masquerade-1729548168\n\nPresented 
 by the Sisterhood of Temple Sholom
DTSTART;TZID=America/New_York:20250315T200000
DTEND;TZID=America/New_York:20250315T230000
END:VEVENT
END:VCALENDAR
