BEGIN:VCALENDAR
PRODID:-//eluceo/ical//2.0/EN
VERSION:2.0
CALSCALE:GREGORIAN
BEGIN:VEVENT
UID:6751f665bd91d1adf017341dbe71930e
DTSTAMP:20260420T234529Z
SUMMARY:Purim Hamantaschen Baking
DESCRIPTION:Jewish Federation of West-Central New Jersey\nCommunity Calenda
 r\nhttps://jfedwcnj.org/calendar/purim-hamantaschen-baking-1456787593\n\nP
 urim commemorates the salvation of the Jewish people in ancient Persia fro
 m Haman&rsquo\;s plot &ldquo\;to destroy all the Jews in a single day.&rdq
 uo\; It is customary for children to dress up in costumes\, read the Megil
 lah (book of Esther)\, which recounts the story of the Purim miracle\, giv
 e money to the poor\, send gifts to friends and partake in a festive Purim
  feast. Hamantaschen are three-sided triangular cookies with jelly or choc
 olate filling that we eat at Purim. They represent the hat that Haman wore
 ....
DTSTART;TZID=America/New_York:20160322T173000
DTEND;TZID=America/New_York:20160322T193000
END:VEVENT
END:VCALENDAR
